BEGIN:VCALENDAR
VERSION:2.0
PRODID:-//Canberra Alliance for Participatory Democracy - ECPv5.4.0//NONSGML v1.0//EN
CALSCALE:GREGORIAN
METHOD:PUBLISH
X-WR-CALNAME:Canberra Alliance for Participatory Democracy
X-ORIGINAL-URL:https://canberra-alliance.org.au
X-WR-CALDESC:Events for Canberra Alliance for Participatory Democracy
BEGIN:VTIMEZONE
TZID:Australia/Sydney
BEGIN:STANDARD
TZOFFSETFROM:+1100
TZOFFSETTO:+1000
TZNAME:AEST
DTSTART:20210403T160000
END:STANDARD
BEGIN:DAYLIGHT
TZOFFSETFROM:+1000
TZOFFSETTO:+1100
TZNAME:AEDT
DTSTART:20211002T160000
END:DAYLIGHT
END:VTIMEZONE
BEGIN:VEVENT
DTSTART;TZID=Australia/Sydney:20210328T140000
DTEND;TZID=Australia/Sydney:20210328T160000
DTSTAMP:20210301T142422
CREATED:20210226T004821Z
LAST-MODIFIED:20210226T012329Z
UID:12821-1616940000-1616947200@canberra-alliance.org.au
SUMMARY:Our Democracy group for Canberra?
DESCRIPTION:G’day\, \nYou are invited to a Zoom event to plan how we\, in the federal electorate of Canberra\, could set up an Electorate Group. Canberra MP\, Alicia Payne\, is interested in working with an electorate group in Canberra. People in Fenner or Bean may want to approach Andrew Leigh or David Smith in Bean to set up a group there. This zoom event is to find out and share ideas about how we can go about this. \nWhen: Mar 28\, 2021 02:00 PM Canberra\, Melbourne\, Sydney / Eastern Australia Daylight Saving time. \nRegister in advance for this meeting here. \nAfter registering\, you will receive a confirmation email containing information about joining the meeting. Further background here. \n\nTweet
URL:https://canberra-alliance.org.au/event/our-democracy-group-for-canberra/
CATEGORIES:Zoom Event
ORGANIZER;CN="Canberra%20Alliance%20for%20Participatory%20Democracy":MAILTO:secretary@canberra-alliance.org.au
END:VEVENT
END:VCALENDAR