BEGIN:VCALENDAR
VERSION:2.0
PRODID:-//Canberra Alliance for Participatory Democracy - ECPv5.4.0//NONSGML v1.0//EN
CALSCALE:GREGORIAN
METHOD:PUBLISH
X-WR-CALNAME:Canberra Alliance for Participatory Democracy
X-ORIGINAL-URL:https://canberra-alliance.org.au
X-WR-CALDESC:Events for Canberra Alliance for Participatory Democracy
BEGIN:VTIMEZONE
TZID:Australia/Sydney
BEGIN:STANDARD
TZOFFSETFROM:+1100
TZOFFSETTO:+1000
TZNAME:AEST
DTSTART:20190406T160000
END:STANDARD
BEGIN:DAYLIGHT
TZOFFSETFROM:+1000
TZOFFSETTO:+1100
TZNAME:AEDT
DTSTART:20191005T160000
END:DAYLIGHT
END:VTIMEZONE
BEGIN:VEVENT
DTSTART;TZID=Australia/Sydney:20191103T140000
DTEND;TZID=Australia/Sydney:20191103T153000
DTSTAMP:20210301T142102
CREATED:20191021T120917Z
LAST-MODIFIED:20191021T120919Z
UID:10850-1572789600-1572795000@canberra-alliance.org.au
SUMMARY:Getting the democracy we want: how community action can transform democracy
DESCRIPTION:We are looking at transformations to make better democracy\, and will explore ideas for democratic renewal in the ACT\, and actions we can take as individuals and in our groups and associations.  \n\n\n\n\n\n\n\n\n\n\n\nTweet
URL:https://canberra-alliance.org.au/event/getting-the-democracy-we-want-how-community-action-can-transform-democracy/
LOCATION:St James Uniting Church\,\, 40 Gillies Street\, Curtin\, ACT\, Australia
END:VEVENT
END:VCALENDAR