BEGIN:VCALENDAR
VERSION:2.0
PRODID:-//Canberra Alliance for Participatory Democracy - ECPv5.4.0//NONSGML v1.0//EN
CALSCALE:GREGORIAN
METHOD:PUBLISH
X-WR-CALNAME:Canberra Alliance for Participatory Democracy
X-ORIGINAL-URL:https://canberra-alliance.org.au
X-WR-CALDESC:Events for Canberra Alliance for Participatory Democracy
BEGIN:VTIMEZONE
TZID:Australia/Sydney
BEGIN:STANDARD
TZOFFSETFROM:+1100
TZOFFSETTO:+1000
TZNAME:AEST
DTSTART:20190406T160000
END:STANDARD
BEGIN:DAYLIGHT
TZOFFSETFROM:+1000
TZOFFSETTO:+1100
TZNAME:AEDT
DTSTART:20191005T160000
END:DAYLIGHT
END:VTIMEZONE
BEGIN:VEVENT
DTSTART;TZID=Australia/Sydney:20190523T173000
DTEND;TZID=Australia/Sydney:20190523T190000
DTSTAMP:20210301T143606
CREATED:20190512T130301Z
LAST-MODIFIED:20190512T130302Z
UID:10579-1558632600-1558638000@canberra-alliance.org.au
SUMMARY:Deliberate ACT Meet Up #11  -  Deliberating Well – What conditions are needed?
DESCRIPTION:Deliberating Well – What conditions are needed? We will recap on our work with ‘deliberative capabilities’ and go on to think about what conditions are needed to enhance deliberative behaviours and processes. Simon Niemeyer will present some research findings of relevance\, and we’ll think about where we’d like to go from here.  \n\n\n\n\n\n\n\n\n\n\n\nTweet
URL:https://canberra-alliance.org.au/event/deliberate-act-meet-up-11-deliberating-well-what-conditions-are-needed/
LOCATION:Ground Floor Function Room\, Dame Patti Menzies House\, 16 Challis Street\, Dickson\, ACT\, Australia
END:VEVENT
END:VCALENDAR