BEGIN:VCALENDAR
VERSION:2.0
PRODID:-//Canberra Alliance for Participatory Democracy - ECPv5.4.0//NONSGML v1.0//EN
CALSCALE:GREGORIAN
METHOD:PUBLISH
X-WR-CALNAME:Canberra Alliance for Participatory Democracy
X-ORIGINAL-URL:https://canberra-alliance.org.au
X-WR-CALDESC:Events for Canberra Alliance for Participatory Democracy
BEGIN:VTIMEZONE
TZID:Australia/Sydney
BEGIN:STANDARD
TZOFFSETFROM:+1100
TZOFFSETTO:+1000
TZNAME:AEST
DTSTART:20190406T160000
END:STANDARD
BEGIN:DAYLIGHT
TZOFFSETFROM:+1000
TZOFFSETTO:+1100
TZNAME:AEDT
DTSTART:20191005T160000
END:DAYLIGHT
END:VTIMEZONE
BEGIN:VEVENT
DTSTART;TZID=Australia/Sydney:20190228T180000
DTEND;TZID=Australia/Sydney:20190228T203000
DTSTAMP:20210301T143323
CREATED:20190225T124540Z
LAST-MODIFIED:20190225T124541Z
UID:10182-1551376800-1551385800@canberra-alliance.org.au
SUMMARY:Come share some love for democracy!
DESCRIPTION:Join our conversation about ways to improve our system\nand why this\nmatters! \n\n\n\n\n\n\n\n\n\n\n\nTweet
URL:https://canberra-alliance.org.au/event/come-share-some-love-for-democracy/
LOCATION:Canberra University\,  Building 2\, level B\, Room 02\, Concourse\, Canberra University\, ACT\, Australia
END:VEVENT
END:VCALENDAR