BEGIN:VCALENDAR
VERSION:2.0
PRODID:-//Canberra Alliance for Participatory Democracy - ECPv5.4.0//NONSGML v1.0//EN
CALSCALE:GREGORIAN
METHOD:PUBLISH
X-WR-CALNAME:Canberra Alliance for Participatory Democracy
X-ORIGINAL-URL:https://canberra-alliance.org.au
X-WR-CALDESC:Events for Canberra Alliance for Participatory Democracy
BEGIN:VTIMEZONE
TZID:Australia/Sydney
BEGIN:STANDARD
TZOFFSETFROM:+1100
TZOFFSETTO:+1000
TZNAME:AEST
DTSTART:20190406T160000
END:STANDARD
BEGIN:DAYLIGHT
TZOFFSETFROM:+1000
TZOFFSETTO:+1100
TZNAME:AEDT
DTSTART:20191005T160000
END:DAYLIGHT
END:VTIMEZONE
BEGIN:VEVENT
DTSTART;TZID=Australia/Sydney:20190605T191500
DTEND;TZID=Australia/Sydney:20190605T200000
DTSTAMP:20210301T143628
CREATED:20190209T231950Z
LAST-MODIFIED:20190513T122426Z
UID:10119-1559762100-1559764800@canberra-alliance.org.au
SUMMARY:CAPAD Committee Meeting
DESCRIPTION:CAPAD’s committee meeting is held on the last Wednesday of each month in the SEE-Change Office\, Downer shops. \n\n\n\nMembers welcome. \n\n\n\n\n\n\n\n\n\n\n\nTweet
URL:https://canberra-alliance.org.au/event/capad-monthly-meeting-2-2-2/
LOCATION:SEE-Change Offices\, Downer Shops\, Downer\, ACT\, 2602\, Australia
CATEGORIES:Monthly meeting
ORGANIZER;CN="Canberra%20Alliance%20for%20Participatory%20Democracy":MAILTO:secretary@canberra-alliance.org.au
END:VEVENT
END:VCALENDAR