BEGIN:VCALENDAR
VERSION:2.0
PRODID:-//Canberra Alliance for Participatory Democracy - ECPv5.4.0//NONSGML v1.0//EN
CALSCALE:GREGORIAN
METHOD:PUBLISH
X-WR-CALNAME:Canberra Alliance for Participatory Democracy
X-ORIGINAL-URL:https://canberra-alliance.org.au
X-WR-CALDESC:Events for Canberra Alliance for Participatory Democracy
BEGIN:VTIMEZONE
TZID:Australia/Sydney
BEGIN:STANDARD
TZOFFSETFROM:+1100
TZOFFSETTO:+1000
TZNAME:AEST
DTSTART:20190406T160000
END:STANDARD
BEGIN:DAYLIGHT
TZOFFSETFROM:+1000
TZOFFSETTO:+1100
TZNAME:AEDT
DTSTART:20191005T160000
END:DAYLIGHT
END:VTIMEZONE
BEGIN:VEVENT
DTSTART;TZID=Australia/Sydney:20191103T153000
DTEND;TZID=Australia/Sydney:20191103T160000
DTSTAMP:20210301T142123
CREATED:20191021T121712Z
LAST-MODIFIED:20191021T121536Z
UID:10781-1572795000-1572796800@canberra-alliance.org.au
SUMMARY:CAPaD 2019 AGM
DESCRIPTION:We have an exciting year planned \nfor 2020\, working with others in the community to strengthen our \ndemocracy and ensure that we move towards Government WITH the People.\n\n \n\n\n\n\n\n\n\n\n\n\n\nTweet
URL:https://canberra-alliance.org.au/event/capad-2019-agm/
LOCATION:St James Uniting Church\,\, 40 Gillies Street\, Curtin\, ACT\, Australia
END:VEVENT
END:VCALENDAR