BEGIN:VCALENDAR
VERSION:2.0
PRODID:-//Canberra Alliance for Participatory Democracy - ECPv4.8.1//NONSGML v1.0//EN
CALSCALE:GREGORIAN
METHOD:PUBLISH
X-WR-CALNAME:Canberra Alliance for Participatory Democracy
X-ORIGINAL-URL:http://canberra-alliance.org.au
X-WR-CALDESC:Events for Canberra Alliance for Participatory Democracy
BEGIN:VEVENT
DTSTART;TZID=Australia/Sydney:20190424T191500
DTEND;TZID=Australia/Sydney:20190424T200000
DTSTAMP:20190301T100017
CREATED:20190209T231842Z
LAST-MODIFIED:20190209T231845Z
UID:10116-1556133300-1556136000@canberra-alliance.org.au
SUMMARY:CAPAD Committee Meeting
DESCRIPTION:\n\n\nCAPAD’s committee meeting is held on the last Wednesday of each month in the SEE-Change Office\, Downer shops. \n\n\n\nMembers welcome. \n\n\n\n\n\n\n\n\n\n\n
URL:http://canberra-alliance.org.au/event/capad-monthly-meeting-2-2/
LOCATION:SEE-Change Offices\, Downer Shops\, Downer\, ACT\, 2602\, Australia
CATEGORIES:Monthly meeting
END:VEVENT
END:VCALENDAR